BEGIN:VCALENDAR
VERSION:2.0
PRODID:-//TYPO3/NONSGML Calendarize//EN
BEGIN:VEVENT
UID:calendarize-8632
DTSTART:20190907T220000Z
DTEND:20190908T215900Z
SUMMARY:OCCUPÉ
DESCRIPTION:
LOCATION:
END:VEVENT

END:VCALENDAR