BEGIN:VCALENDAR
VERSION:2.0
PRODID:-//TYPO3/NONSGML Calendarize//EN
BEGIN:VEVENT
UID:calendarize-5176
DTSTART:20191021
DTEND:20191021
SUMMARY:Vieux papiers
DESCRIPTION:
LOCATION:
END:VEVENT

END:VCALENDAR