BEGIN:VCALENDAR
VERSION:2.0
PRODID:-//TYPO3/NONSGML Calendarize//EN
BEGIN:VEVENT
UID:calendarize-5175
DTSTART:20190916
DTEND:20190916
SUMMARY:Vieux papiers
DESCRIPTION:
LOCATION:
END:VEVENT

END:VCALENDAR