BEGIN:VCALENDAR
VERSION:2.0
PRODID:-//TYPO3/NONSGML Calendarize//EN
BEGIN:VEVENT
UID:calendarize-373
DTSTART:20181015
DTEND:20181015
SUMMARY:Vieux papiers
DESCRIPTION:
LOCATION:
END:VEVENT

END:VCALENDAR