BEGIN:VCALENDAR
VERSION:2.0
PRODID:-//TYPO3/NONSGML Calendarize//EN
BEGIN:VEVENT
UID:calendarize-372
DTSTART:20181005
DTEND:20181005
SUMMARY:Vieux fers
DESCRIPTION:
LOCATION:
END:VEVENT

END:VCALENDAR