BEGIN:VCALENDAR
VERSION:2.0
PRODID:-//TYPO3/NONSGML Calendarize//EN
BEGIN:VEVENT
UID:calendarize-374
DTSTART:20181017
DTEND:20181017
SUMMARY:Superdreckskëscht
DESCRIPTION:
LOCATION:
END:VEVENT

END:VCALENDAR