BEGIN:VCALENDAR
VERSION:2.0
PRODID:-//TYPO3/NONSGML Calendarize//EN
BEGIN:VEVENT
UID:calendarize-48
DTSTART:20181016
DTEND:20181016
SUMMARY:Déchets ménagers
DESCRIPTION:
LOCATION:
END:VEVENT

END:VCALENDAR