BEGIN:VCALENDAR
VERSION:2.0
PRODID:-//TYPO3/NONSGML Calendarize//EN
BEGIN:VEVENT
UID:calendarize-20983
DTSTART:20211126
DTEND:20211126
SUMMARY:Déchets organiques
DESCRIPTION:
LOCATION:
END:VEVENT

END:VCALENDAR