BEGIN:VCALENDAR
VERSION:2.0
PRODID:-//TYPO3/NONSGML Calendarize//EN
BEGIN:VEVENT
UID:calendarize-20953
DTSTART:20210910
DTEND:20210910
SUMMARY:Déchets organiques
DESCRIPTION:
LOCATION:
END:VEVENT

END:VCALENDAR