BEGIN:VCALENDAR
VERSION:2.0
PRODID:-//TYPO3/NONSGML Calendarize//EN
BEGIN:VEVENT
UID:calendarize-20951
DTSTART:20210903
DTEND:20210903
SUMMARY:Déchets organiques
DESCRIPTION:
LOCATION:
END:VEVENT

END:VCALENDAR