BEGIN:VCALENDAR
VERSION:2.0
PRODID:-//TYPO3/NONSGML Calendarize//EN
BEGIN:VEVENT
UID:calendarize-4912
DTSTART:20191126
DTEND:20191126
SUMMARY:Déchets ménagers
DESCRIPTION:
LOCATION:
END:VEVENT

END:VCALENDAR