BEGIN:VCALENDAR
VERSION:2.0
PRODID:-//TYPO3/NONSGML Calendarize//EN
BEGIN:VEVENT
UID:calendarize-4911
DTSTART:20191119
DTEND:20191119
SUMMARY:Déchets ménagers
DESCRIPTION:
LOCATION:
END:VEVENT

END:VCALENDAR