BEGIN:VCALENDAR
VERSION:2.0
PRODID:-//TYPO3/NONSGML Calendarize//EN
BEGIN:VEVENT
UID:calendarize-4897
DTSTART:20190813
DTEND:20190813
SUMMARY:Déchets ménagers
DESCRIPTION:
LOCATION:
END:VEVENT

END:VCALENDAR