BEGIN:VCALENDAR
VERSION:2.0
PRODID:-//TYPO3/NONSGML Calendarize//EN
BEGIN:VEVENT
UID:calendarize-4896
DTSTART:20190806
DTEND:20190806
SUMMARY:Déchets ménagers
DESCRIPTION:
LOCATION:
END:VEVENT

END:VCALENDAR