BEGIN:VCALENDAR
VERSION:2.0
PRODID:-//TYPO3/NONSGML Calendarize//EN
BEGIN:VEVENT
UID:calendarize-20974
DTSTART:20211028
DTEND:20211028
SUMMARY:Collecte de verre
DESCRIPTION:
LOCATION:
END:VEVENT

END:VCALENDAR